BEGIN:VCALENDAR
VERSION:2.0
PRODID:-//B.I.A.N.C.O. - ECPv6.15.20//NONSGML v1.0//EN
CALSCALE:GREGORIAN
METHOD:PUBLISH
X-ORIGINAL-URL:https://bianco1.org
X-WR-CALDESC:Events for B.I.A.N.C.O.
REFRESH-INTERVAL;VALUE=DURATION:PT1H
X-Robots-Tag:noindex
X-PUBLISHED-TTL:PT1H
BEGIN:VTIMEZONE
TZID:America/New_York
BEGIN:DAYLIGHT
TZOFFSETFROM:-0500
TZOFFSETTO:-0400
TZNAME:EDT
DTSTART:20240310T070000
END:DAYLIGHT
BEGIN:STANDARD
TZOFFSETFROM:-0400
TZOFFSETTO:-0500
TZNAME:EST
DTSTART:20241103T060000
END:STANDARD
BEGIN:DAYLIGHT
TZOFFSETFROM:-0500
TZOFFSETTO:-0400
TZNAME:EDT
DTSTART:20250309T070000
END:DAYLIGHT
BEGIN:STANDARD
TZOFFSETFROM:-0400
TZOFFSETTO:-0500
TZNAME:EST
DTSTART:20251102T060000
END:STANDARD
BEGIN:DAYLIGHT
TZOFFSETFROM:-0500
TZOFFSETTO:-0400
TZNAME:EDT
DTSTART:20260308T070000
END:DAYLIGHT
BEGIN:STANDARD
TZOFFSETFROM:-0400
TZOFFSETTO:-0500
TZNAME:EST
DTSTART:20261101T060000
END:STANDARD
END:VTIMEZONE
BEGIN:VEVENT
DTSTART;TZID=America/New_York:20250630T100000
DTEND;TZID=America/New_York:20250630T200000
DTSTAMP:20260424T180149
CREATED:20250312T034136Z
LAST-MODIFIED:20250312T034231Z
UID:800-1751277600-1751313600@bianco1.org
SUMMARY:2025 BIANCO Golf Outing
DESCRIPTION:10:00 AM Registration & Breakfast\n12:00 PM Shotgun Start & BBQ\n5:00 – 8:00 PM Cocktails & Reception\n\nFor details\, click the 2025 Golf Outing Flyer link
URL:https://bianco1.org/event/2025-bianco-golf-outing/
LOCATION:Harbor Links Golf Course\, 1 Fairway Drive\, Port Washington\, 11050\, United States
CATEGORIES:Banquet
END:VEVENT
END:VCALENDAR