BEGIN:VCALENDAR
VERSION:2.0
PRODID:-//B.I.A.N.C.O. - ECPv6.15.20//NONSGML v1.0//EN
CALSCALE:GREGORIAN
METHOD:PUBLISH
X-WR-CALNAME:B.I.A.N.C.O.
X-ORIGINAL-URL:https://bianco1.org
X-WR-CALDESC:Events for B.I.A.N.C.O.
REFRESH-INTERVAL;VALUE=DURATION:PT1H
X-Robots-Tag:noindex
X-PUBLISHED-TTL:PT1H
BEGIN:VTIMEZONE
TZID:America/New_York
BEGIN:DAYLIGHT
TZOFFSETFROM:-0500
TZOFFSETTO:-0400
TZNAME:EDT
DTSTART:20240310T070000
END:DAYLIGHT
BEGIN:STANDARD
TZOFFSETFROM:-0400
TZOFFSETTO:-0500
TZNAME:EST
DTSTART:20241103T060000
END:STANDARD
BEGIN:DAYLIGHT
TZOFFSETFROM:-0500
TZOFFSETTO:-0400
TZNAME:EDT
DTSTART:20250309T070000
END:DAYLIGHT
BEGIN:STANDARD
TZOFFSETFROM:-0400
TZOFFSETTO:-0500
TZNAME:EST
DTSTART:20251102T060000
END:STANDARD
BEGIN:DAYLIGHT
TZOFFSETFROM:-0500
TZOFFSETTO:-0400
TZNAME:EDT
DTSTART:20260308T070000
END:DAYLIGHT
BEGIN:STANDARD
TZOFFSETFROM:-0400
TZOFFSETTO:-0500
TZNAME:EST
DTSTART:20261101T060000
END:STANDARD
END:VTIMEZONE
BEGIN:VEVENT
DTSTART;TZID=America/New_York:20250519T183000
DTEND;TZID=America/New_York:20250519T220000
DTSTAMP:20260424T193954
CREATED:20250314T153332Z
LAST-MODIFIED:20250428T192504Z
UID:809-1747679400-1747692000@bianco1.org
SUMMARY:BIANCO Cigar Night
DESCRIPTION:Click here to download flyer
URL:https://bianco1.org/event/bianco-cigar-night/
LOCATION:Cena 081\, 103 Post Ave\, Westbury\, NY\, 11590\, United States
CATEGORIES:Banquet
END:VEVENT
END:VCALENDAR